BEGIN:VCALENDAR
VERSION:2.0
PRODID:-//Stratis iCal API//FR
CALSCALE:GREGORIAN
X-WR-CALNAME:Atelier du mercredi - les différents visages de la Lune - de 6 à 15 ans
BEGIN:VEVENT
UID:event-366
SUMMARY:Atelier du mercredi - les différents visages de la Lune - de 6 à 15 ans
DESCRIPTION:Pourquoi voit-on la Lune entière  partielle ou pas du tout ? 
DTSTAMP:20251208T091630Z
DTSTART:20260121T130000Z
DTEND:20260121T143000Z
STATUS:CONFIRMED
SEQUENCE:2
BEGIN:VALARM
TRIGGER:-PT30M
DESCRIPTION:Atelier du mercredi - les différents visages de la Lune - de 6 à 15 ans
ACTION:DISPLAY
END:VALARM
END:VEVENT
END:VCALENDAR